View In:
ArcGIS JavaScript
ArcGIS Online Map Viewer
ArcGIS Earth
ArcMap
View Footprint In:
ArcGIS Online Map Viewer
Service Description: The National Oceanic and Atmospheric Administration (NOAA) is mandated to acquire hydrographic data to support the safe navigation of maritime commerce throughout the substantial 3.4 million square nautical miles of the United States’ Exclusive Economic Zone (EEZ). While a complete hydrographic survey of the nation’s waters would maximize navigational safety, the large areal extent, coupled with constrained resources in time and money make this infeasible. NOAA recently developed a risk-based model of Hydrographic Health throughout the EEZ to systematically prioritize areas for survey.
Name: Hydrographic_Services/HydroHealth_2018
Description: The National Oceanic and Atmospheric Administration (NOAA) is mandated to acquire hydrographic data to support the safe navigation of maritime commerce throughout the substantial 3.4 million square nautical miles of the United States’ Exclusive Economic Zone (EEZ). While a complete hydrographic survey of the nation’s waters would maximize navigational safety, the large areal extent, coupled with constrained resources in time and money make this infeasible. NOAA recently developed a risk-based model of Hydrographic Health throughout the EEZ to systematically prioritize areas for survey.
Single Fused Map Cache: false
Extent:
XMin: -1.0427222966505118E7
YMin: -2385007.3705329467
XMax: 3402277.0334948823
YMax: 4933992.629467053
Spatial Reference: PROJCS["NAD_1983_Albers",GEOGCS["GCS_North_American_1983",DATUM["D_North_American_1983",SPHEROID["GRS_1980",6378137.0,298.257222101]],PRIMEM["Greenwich",0.0],UNIT["Degree",0.0174532925199433]],PROJECTION["Albers"],PARAMETER["False_Easting",0.0],PARAMETER["False_Northing",0.0],PARAMETER["Central_Meridian",-96.0],PARAMETER["Standard_Parallel_1",20.0],PARAMETER["Standard_Parallel_2",60.0],PARAMETER["Latitude_Of_Origin",40.0],UNIT["Meter",1.0]]
Initial Extent:
XMin: -1.0427222966505118E7
YMin: -2385007.3705329467
XMax: 3402277.0334948823
YMax: 4933992.629467053
Spatial Reference: PROJCS["NAD_1983_Albers",GEOGCS["GCS_North_American_1983",DATUM["D_North_American_1983",SPHEROID["GRS_1980",6378137.0,298.257222101]],PRIMEM["Greenwich",0.0],UNIT["Degree",0.0174532925199433]],PROJECTION["Albers"],PARAMETER["False_Easting",0.0],PARAMETER["False_Northing",0.0],PARAMETER["Central_Meridian",-96.0],PARAMETER["Standard_Parallel_1",20.0],PARAMETER["Standard_Parallel_2",60.0],PARAMETER["Latitude_Of_Origin",40.0],UNIT["Meter",1.0]]
Full Extent:
XMin: -1.0427222966505118E7
YMin: -2385007.3705329467
XMax: 3402277.0334948823
YMax: 4933992.629467053
Spatial Reference: PROJCS["NAD_1983_Albers",GEOGCS["GCS_North_American_1983",DATUM["D_North_American_1983",SPHEROID["GRS_1980",6378137.0,298.257222101]],PRIMEM["Greenwich",0.0],UNIT["Degree",0.0174532925199433]],PROJECTION["Albers"],PARAMETER["False_Easting",0.0],PARAMETER["False_Northing",0.0],PARAMETER["Central_Meridian",-96.0],PARAMETER["Standard_Parallel_1",20.0],PARAMETER["Standard_Parallel_2",60.0],PARAMETER["Latitude_Of_Origin",40.0],UNIT["Meter",1.0]]
Pixel Size X: 500.0
Pixel Size Y: 500.0
Band Count: 1
Pixel Type: S16
RasterFunction Infos: {"rasterFunctionInfos": [
{
"name": "HH2018Grades",
"description": "A raster function template.",
"help": ""
},
{
"name": "None",
"description": "",
"help": ""
}
]}
Mensuration Capabilities: Basic
Has Histograms: true
Has Colormap: false
Has Multi Dimensions : false
Rendering Rule:
Min Scale: 0
Max Scale: 0
Copyright Text: NOAA Office of Coast Survey, Hydrographic Surveys Division
Service Data Type: esriImageServiceDataTypeGeneric
Min Values: -9048
Max Values: 11152
Mean Values: -45.679496219158935
Standard Deviation Values: 533.0681376898852
Object ID Field:
Fields:
None
Default Mosaic Method: Center
Allowed Mosaic Methods:
SortField:
SortValue: null
Mosaic Operator: First
Default Compression Quality: 75
Default Resampling Method: Bilinear
Max Record Count: null
Max Image Height: 4100
Max Image Width: 15000
Max Download Image Count: null
Max Mosaic Image Count: null
Allow Raster Function: true
Allow Copy: true
Allow Analysis: true
Allow Compute TiePoints: false
Supports Statistics: false
Supports Advanced Queries: false
Use StandardizedQueries: true
Raster Type Infos:
Name: Raster Dataset
Description: Supports all ArcGIS Raster Datasets
Help:
Has Raster Attribute Table: true
Edit Fields Info: null
Ownership Based AccessControl For Rasters: null
Child Resources:
Info
Raster Attribute Table
Histograms
Statistics
Key Properties
Legend
Raster Function Infos
Supported Operations:
Export Image
Identify
Measure
Compute Histograms
Compute Statistics Histograms
Get Samples
Compute Class Statistics
Query Boundary
Compute Pixel Location
Compute Angles
Validate
Project