View In:
ArcGIS JavaScript
ArcGIS Online Map Viewer
ArcGIS Earth
ArcMap
View Footprint In:
ArcGIS Online Map Viewer
Service Description: Image service updated weekly showing NOAA Hydrographic Ship and NOAA Hydrographic Contractor survey progress for the year to date. Image service is composed of a Raster Mosaic Dataset of three-band (RGB) GeoTiff images. No actual depth information is contained in the rasters. This image service underlies the hydrographic survey progress story map. The data are displayed in WGS 1984 Web Mercator (Auxiliary Sphere) projection.
Name: Hydrographic_Services/HydroSurveyProgress
Description: Image service updated weekly showing NOAA Hydrographic Ship and NOAA Hydrographic Contractor survey progress for the year to date. Image service is composed of a Raster Mosaic Dataset of three-band (RGB) GeoTiff images. No actual depth information is contained in the rasters. This image service underlies the hydrographic survey progress story map. The data are displayed in WGS 1984 Web Mercator (Auxiliary Sphere) projection.
Single Fused Map Cache: false
Extent:
XMin: -1.87798675834E7
YMin: 2969550.047458819
XMax: -7588572.583806796
YMax: 1.0068797977400001E7
Spatial Reference: 102100
(3857)
Initial Extent:
XMin: -1.87798675834E7
YMin: 2969550.047458819
XMax: -7588572.583806796
YMax: 1.0068797977400001E7
Spatial Reference: 102100
(3857)
Full Extent:
XMin: -1.87798675834E7
YMin: 2969550.047458819
XMax: -7588572.583806796
YMax: 1.0068797977400001E7
Spatial Reference: 102100
(3857)
Pixel Size X: 3.9999639006941416
Pixel Size Y: 3.9999639006941416
Band Count: 4
Pixel Type: U8
RasterFunction Infos: {"rasterFunctionInfos": [{
"name": "None",
"description": "",
"help": ""
}]}
Mensuration Capabilities: Basic
Has Histograms: true
Has Colormap: false
Has Multi Dimensions : false
Rendering Rule:
Min Scale: 0
Max Scale: 0
Copyright Text: Meredith C Payne
Service Data Type: esriImageServiceDataTypeGeneric
Min Values: 0, 0, 0, 0
Max Values: 255, 255, 255, 255
Mean Values: 90.8561125983244, 91.1355265182235, 83.67499398962381, 83.96624648270432
Standard Deviation Values: 118.40322369208343, 117.7581220748926, 117.55881735718721, 119.70289233469524
Object ID Field: OBJECTID
Fields:
-
OBJECTID
(
type: esriFieldTypeOID, alias: OBJECTID
)
-
Shape
(
type: esriFieldTypeGeometry, alias: Shape
)
-
Name
(
type: esriFieldTypeString, alias: Name, length: 200
)
-
MinPS
(
type: esriFieldTypeDouble, alias: MinPS
)
-
MaxPS
(
type: esriFieldTypeDouble, alias: MaxPS
)
-
LowPS
(
type: esriFieldTypeDouble, alias: LowPS
)
-
HighPS
(
type: esriFieldTypeDouble, alias: HighPS
)
-
Category
(
type: esriFieldTypeInteger, alias: Category
,
Coded Values:
[0: Unknown]
,
[1: Primary]
,
[2: Overview]
, ...6 more...
)
-
Tag
(
type: esriFieldTypeString, alias: Tag, length: 100
)
-
GroupName
(
type: esriFieldTypeString, alias: GroupName, length: 100
)
-
ProductName
(
type: esriFieldTypeString, alias: ProductName, length: 100
)
-
CenterX
(
type: esriFieldTypeDouble, alias: CenterX
)
-
CenterY
(
type: esriFieldTypeDouble, alias: CenterY
)
-
ZOrder
(
type: esriFieldTypeInteger, alias: ZOrder
)
-
Shape_Length
(
type: esriFieldTypeDouble, alias: Shape_Length
)
-
Shape_Area
(
type: esriFieldTypeDouble, alias: Shape_Area
)
Default Mosaic Method: Northwest
Allowed Mosaic Methods: NorthWest,Center,LockRaster,ByAttribute,Nadir,Viewpoint,Seamline,None
SortField:
SortValue: null
Mosaic Operator: First
Default Compression Quality: 75
Default Resampling Method: Bilinear
Max Record Count: 1000
Max Image Height: 4100
Max Image Width: 15000
Max Download Image Count: 20
Max Mosaic Image Count: 20
Allow Raster Function: true
Allow Copy: null
Allow Analysis: null
Allow Compute TiePoints: false
Supports Statistics: true
Supports Advanced Queries: true
Use StandardizedQueries: true
Raster Type Infos:
Name: Raster Dataset
Description: Supports all ArcGIS Raster Datasets
Help:
Has Raster Attribute Table: false
Edit Fields Info: null
Ownership Based AccessControl For Rasters: null
Child Resources:
Info
Histograms
Key Properties
Legend
Raster Function Infos
Supported Operations:
Export Image
Query
Identify
Measure
Compute Histograms
Compute Statistics Histograms
Get Samples
Compute Class Statistics
Query Boundary
Compute Pixel Location
Compute Angles
Validate
Project